BEGIN:VCALENDAR
VERSION:2.0
PRODID:-//Water for West Africa - ECPv6.15.20//NONSGML v1.0//EN
CALSCALE:GREGORIAN
METHOD:PUBLISH
X-ORIGINAL-URL:https://waterforwestafrica.org
X-WR-CALDESC:Events for Water for West Africa
REFRESH-INTERVAL;VALUE=DURATION:PT1H
X-Robots-Tag:noindex
X-PUBLISHED-TTL:PT1H
BEGIN:VTIMEZONE
TZID:America/Chicago
BEGIN:DAYLIGHT
TZOFFSETFROM:-0600
TZOFFSETTO:-0500
TZNAME:CDT
DTSTART:20200308T080000
END:DAYLIGHT
BEGIN:STANDARD
TZOFFSETFROM:-0500
TZOFFSETTO:-0600
TZNAME:CST
DTSTART:20201101T070000
END:STANDARD
BEGIN:DAYLIGHT
TZOFFSETFROM:-0600
TZOFFSETTO:-0500
TZNAME:CDT
DTSTART:20210314T080000
END:DAYLIGHT
BEGIN:STANDARD
TZOFFSETFROM:-0500
TZOFFSETTO:-0600
TZNAME:CST
DTSTART:20211107T070000
END:STANDARD
BEGIN:DAYLIGHT
TZOFFSETFROM:-0600
TZOFFSETTO:-0500
TZNAME:CDT
DTSTART:20220313T080000
END:DAYLIGHT
BEGIN:STANDARD
TZOFFSETFROM:-0500
TZOFFSETTO:-0600
TZNAME:CST
DTSTART:20221106T070000
END:STANDARD
END:VTIMEZONE
BEGIN:VEVENT
DTSTART;TZID=America/Chicago:20210425T133000
DTEND;TZID=America/Chicago:20210425T170000
DTSTAMP:20260421T120839
CREATED:20210321T155730Z
LAST-MODIFIED:20210323T162528Z
UID:7998-1619357400-1619370000@waterforwestafrica.org
SUMMARY:Searcy - HHI Walk4Water GWAM/WfWA | IHCF | Partnership
DESCRIPTION:  \n  \n   \n  \nWhy is Searcy walking for water for Northern Ghana? \nTwo Searcy-based ministries have a long history of work working in Northern Ghana; Ghana West Africa Missions (GWAM) and IHCF/African Christian Hospitals.  The first ministry provides water wells and clean water; the second ministry\, through the Yendi Church of Christ Clinic\, daily treats hundreds of patients suffering from various illnesses\, including waterborne illnesses.  This clinic\, like the communities surrounding it\, struggles for clean water.  It is not uncommon for women with children to walk several miles to reach the clinic\, and\, upon their arrival\, to find clean water resources to be limited. \nGWAM and IHCF are partnering together\, with the goal of fixing the water issue at the clinic\, plus providing two water wells to the surrounding community.  It is our hope that these combined projects will be a witness to the love of Christ in an overwhelmingly Muslim area\, and that these acts of service would draw men and women into the Kingdom of God. \nThank you for joining in this effort; your participation could change the lives of many who are suffering\, especially during the COVID 19 pandemic! \nEvent Details\nHost: Searcy Area Wide\nDate: April 25\, 2021\nLocation: Harding University Football Stadium Entrance\n\nRolling start time. Arrive anytime between 1-3 p.m. Event will follow current State COVID-19 guidelines.\n\nHHI EVENT PAGE
URL:https://waterforwestafrica.org/calendar/searcy-walk4water/
LOCATION:Harding University Football Stadium Entrance\, E Park Ave\, Searcy\, AR\, 72143\, United States
CATEGORIES:Walk
ATTACH;FMTTYPE=image/jpeg:https://waterforwestafrica.org/wp-content/uploads/2021/01/thumbnail_IMG_0029-e1611525654621.jpg
ORGANIZER;CN="GWAM/WfWA | HHI | IHCF | Partnership":MAILTO:rmcwhorter@gwam.org
END:VEVENT
BEGIN:VEVENT
DTSTART;TZID=America/Chicago:20210418T133000
DTEND;TZID=America/Chicago:20210418T160000
DTSTAMP:20260421T120839
CREATED:20200924T155648Z
LAST-MODIFIED:20210323T161924Z
UID:911-1618752600-1618761600@waterforwestafrica.org
SUMMARY:Florence - HHI Walk4Water | GWAM/WfWA | Partnership
DESCRIPTION:  \nThat’s almost one in ten people worldwide or twice the population of the United States. The majority live in very isolated rural areas and spend many hours every day walking to collect water for their family. Not only does walking for water keep kids out of school or take up time that parents could be used to earn money\, but the water often carries diseases and parasites that can make everyone sick. However\, creating access to clean water means better education\, income\, and health – especially for women and kids. \nPlease join the Shoals Area churches in this effort to bring CLEAN WATER to families and communities that would otherwise be drinking dirty\, unhealthy water! We hope you’ll make plans to be a part of our Walk4Water at McFarland Park on Sunday\, April 18. Remember any and every donation helps—you can also help by liking/sharing our walk page to raise awareness of this great need for clean water that exists for so many around the world!\nEvent Details\nHost:\nShoals Area-Wide Walk \nDate: April 18\, 2021\nWalk Start: 2:00 PM\n\nCheck-In: 1:30 PM \n\n\nLocation: McFarland Park Address: \nHHI EVENT PAGE
URL:https://waterforwestafrica.org/calendar/florence-walk4water/
LOCATION:McFarland Park\, 200 James M Spain Drive\, Florence\, 35630\, United States
CATEGORIES:Walk
ATTACH;FMTTYPE=image/jpeg:https://waterforwestafrica.org/wp-content/uploads/2020/11/Children_2.jpg
ORGANIZER;CN="GWAM\WfWA | HHI | Partnership":MAILTO:rmcwhorter@enersolv.com
END:VEVENT
END:VCALENDAR